BEGIN:VCALENDAR
VERSION:2.0
PRODID:-//ZŠ Dolany - ECPv6.11.2//NONSGML v1.0//EN
CALSCALE:GREGORIAN
METHOD:PUBLISH
X-ORIGINAL-URL:https://www.zsdolany.cz
X-WR-CALDESC:Akce na ZŠ Dolany
REFRESH-INTERVAL;VALUE=DURATION:PT1H
X-Robots-Tag:noindex
X-PUBLISHED-TTL:PT1H
BEGIN:VTIMEZONE
TZID:Europe/Helsinki
BEGIN:DAYLIGHT
TZOFFSETFROM:+0200
TZOFFSETTO:+0300
TZNAME:EEST
DTSTART:20240331T010000
END:DAYLIGHT
BEGIN:STANDARD
TZOFFSETFROM:+0300
TZOFFSETTO:+0200
TZNAME:EET
DTSTART:20241027T010000
END:STANDARD
BEGIN:DAYLIGHT
TZOFFSETFROM:+0200
TZOFFSETTO:+0300
TZNAME:EEST
DTSTART:20250330T010000
END:DAYLIGHT
BEGIN:STANDARD
TZOFFSETFROM:+0300
TZOFFSETTO:+0200
TZNAME:EET
DTSTART:20251026T010000
END:STANDARD
BEGIN:DAYLIGHT
TZOFFSETFROM:+0200
TZOFFSETTO:+0300
TZNAME:EEST
DTSTART:20260329T010000
END:DAYLIGHT
BEGIN:STANDARD
TZOFFSETFROM:+0300
TZOFFSETTO:+0200
TZNAME:EET
DTSTART:20261025T010000
END:STANDARD
END:VTIMEZONE
BEGIN:VEVENT
DTSTART;TZID=Europe/Helsinki:20260421T003000
DTEND;TZID=Europe/Helsinki:20260421T003000
DTSTAMP:20260425T213223
CREATED:20260413T054429Z
LAST-MODIFIED:20260413T054429Z
UID:22582-1776731400-1776731400@www.zsdolany.cz
SUMMARY:Korálkování ve Školní družině
DESCRIPTION:ŠD III. a IV.
URL:https://www.zsdolany.cz/event/koralkovani-ve-skolni-druzine-2/
CATEGORIES:ŠD,ZŠ
END:VEVENT
BEGIN:VEVENT
DTSTART;TZID=Europe/Helsinki:20260420T123000
DTEND;TZID=Europe/Helsinki:20260420T123000
DTSTAMP:20260425T213223
CREATED:20260413T054242Z
LAST-MODIFIED:20260413T054242Z
UID:22578-1776688200-1776688200@www.zsdolany.cz
SUMMARY:Korálkování ve Školní družině
DESCRIPTION:ŠD I. a II.
URL:https://www.zsdolany.cz/event/koralkovani-ve-skolni-druzine/
CATEGORIES:ŠD,ZŠ
END:VEVENT
BEGIN:VEVENT
DTSTART;TZID=Europe/Helsinki:20260311T120000
DTEND;TZID=Europe/Helsinki:20260311T120000
DTSTAMP:20260425T213223
CREATED:20260309T113855Z
LAST-MODIFIED:20260309T113855Z
UID:22217-1773230400-1773230400@www.zsdolany.cz
SUMMARY:Polytechnická zkušenost ve školní družině
DESCRIPTION:ŠD III. a IV.
URL:https://www.zsdolany.cz/event/polytechnicka-zkusenost-ve-skolni-druzine/
CATEGORIES:ŠD
END:VEVENT
BEGIN:VEVENT
DTSTART;TZID=Europe/Helsinki:20260225T134500
DTEND;TZID=Europe/Helsinki:20260225T134500
DTSTAMP:20260425T213223
CREATED:20260216T062107Z
LAST-MODIFIED:20260216T062107Z
UID:22037-1772027100-1772027100@www.zsdolany.cz
SUMMARY:Písečná animace
DESCRIPTION:Školní družina
URL:https://www.zsdolany.cz/event/pisecna-animace/
CATEGORIES:ŠD,ZŠ
END:VEVENT
BEGIN:VEVENT
DTSTART;TZID=Europe/Helsinki:20260202T073000
DTEND;TZID=Europe/Helsinki:20260306T170000
DTSTAMP:20260425T213223
CREATED:20260107T084737Z
LAST-MODIFIED:20260107T084839Z
UID:21787-1770017400-1772816400@www.zsdolany.cz
SUMMARY:Jarní prázdniny
DESCRIPTION:
URL:https://www.zsdolany.cz/event/jarni-prazdniny-5/
CATEGORIES:MŠ,ŠD,ZŠ
END:VEVENT
BEGIN:VEVENT
DTSTART;VALUE=DATE:20260130
DTEND;VALUE=DATE:20260131
DTSTAMP:20260425T213223
CREATED:20260107T084655Z
LAST-MODIFIED:20260107T084655Z
UID:21785-1769731200-1769817599@www.zsdolany.cz
SUMMARY:Pololetní prázdniny
DESCRIPTION:
URL:https://www.zsdolany.cz/event/pololetni-prazdniny-4/
CATEGORIES:MŠ,ŠD,ZŠ
END:VEVENT
BEGIN:VEVENT
DTSTART;TZID=Europe/Helsinki:20260128T134500
DTEND;TZID=Europe/Helsinki:20260128T134500
DTSTAMP:20260425T213223
CREATED:20260107T084505Z
LAST-MODIFIED:20260107T084505Z
UID:21781-1769607900-1769607900@www.zsdolany.cz
SUMMARY:Maňáskové divadlo
DESCRIPTION:Školní družina
URL:https://www.zsdolany.cz/event/manaskove-divadlo-2/
CATEGORIES:ŠD,ZŠ
END:VEVENT
BEGIN:VEVENT
DTSTART;VALUE=DATE:20251222
DTEND;VALUE=DATE:20260105
DTSTAMP:20260425T213223
CREATED:20251125T145445Z
LAST-MODIFIED:20251125T145506Z
UID:21383-1766361600-1767571199@www.zsdolany.cz
SUMMARY:Přerušení provozu ŠD\, ŠJ\, MŠ - Vánoční prázdniny
DESCRIPTION:Vážení rodiče\, během Vánočních prázdnin bude od 22. 12. do 5. 1. 2026 přerušen provoz MŠ\,ŠJ a ŠD. Veškeré součásti i ZŠ bude opět v provozu od 5. ledna 2026.  \nMŠ ŠD ŠJ
URL:https://www.zsdolany.cz/event/preruseni-provozu-sd-sj-ms-vanocni-prazdniny/
CATEGORIES:MŠ,ŠD,ŠJ,ZŠ
END:VEVENT
BEGIN:VEVENT
DTSTART;TZID=Europe/Helsinki:20251208T133000
DTEND;TZID=Europe/Helsinki:20251208T133000
DTSTAMP:20260425T213223
CREATED:20251203T064018Z
LAST-MODIFIED:20251203T064018Z
UID:21507-1765200600-1765200600@www.zsdolany.cz
SUMMARY:Koření ve školní družině
DESCRIPTION:ŠD 3. a 4. oddělení
URL:https://www.zsdolany.cz/event/koreni-ve-skolni-druzine-3/
CATEGORIES:ŠD,ZŠ
END:VEVENT
BEGIN:VEVENT
DTSTART;TZID=Europe/Helsinki:20251118T120000
DTEND;TZID=Europe/Helsinki:20251118T120000
DTSTAMP:20260425T213223
CREATED:20251105T090648Z
LAST-MODIFIED:20251105T090648Z
UID:21151-1763467200-1763467200@www.zsdolany.cz
SUMMARY:Sférické kino
DESCRIPTION:ZŠ Dolany – Školní družina
URL:https://www.zsdolany.cz/event/sfericke-kino/
CATEGORIES:ŠD,ZŠ
END:VEVENT
BEGIN:VEVENT
DTSTART;VALUE=DATE:20251117
DTEND;VALUE=DATE:20251118
DTSTAMP:20260425T213223
CREATED:20251105T085657Z
LAST-MODIFIED:20251105T085657Z
UID:21147-1763337600-1763423999@www.zsdolany.cz
SUMMARY:Státní svátek - Den boje za svobodu a demokracii
DESCRIPTION:
URL:https://www.zsdolany.cz/event/statni-svatek-den-boje-za-svobodu-a-demokracii-2/
CATEGORIES:MŠ,ŠD,ŠJ,ZŠ
END:VEVENT
BEGIN:VEVENT
DTSTART;TZID=Europe/Helsinki:20251030T080000
DTEND;TZID=Europe/Helsinki:20251031T170000
DTSTAMP:20260425T213223
CREATED:20251001T070204Z
LAST-MODIFIED:20251001T070204Z
UID:20808-1761811200-1761930000@www.zsdolany.cz
SUMMARY:Volný den ředitele školy a ŠD pro přihlášení žáky 1. - 5. tříd
DESCRIPTION:
URL:https://www.zsdolany.cz/event/volny-den-reditele-skoly-a-sd-pro-prihlaseni-zaky-1-5-trid/
CATEGORIES:ŠD,ZŠ
END:VEVENT
BEGIN:VEVENT
DTSTART;TZID=Europe/Helsinki:20251022T130000
DTEND;TZID=Europe/Helsinki:20251022T130000
DTSTAMP:20260425T213223
CREATED:20251001T065903Z
LAST-MODIFIED:20251001T065903Z
UID:20802-1761138000-1761138000@www.zsdolany.cz
SUMMARY:Mezi námi dravci
DESCRIPTION:ŠD Dolany
URL:https://www.zsdolany.cz/event/mezi-nami-dravci-2/
CATEGORIES:ŠD,ZŠ
END:VEVENT
BEGIN:VEVENT
DTSTART;TZID=Europe/Helsinki:20250924T133000
DTEND;TZID=Europe/Helsinki:20250924T133000
DTSTAMP:20260425T213223
CREATED:20250905T055221Z
LAST-MODIFIED:20250905T055221Z
UID:20495-1758720600-1758720600@www.zsdolany.cz
SUMMARY:Želví stopou
DESCRIPTION:Dolany – Školní družina 3. oddělení
URL:https://www.zsdolany.cz/event/zelvi-stopou/
CATEGORIES:ŠD,ZŠ
END:VEVENT
BEGIN:VEVENT
DTSTART;VALUE=DATE:20250321
DTEND;VALUE=DATE:20250322
DTSTAMP:20260425T213223
CREATED:20250313T073624Z
LAST-MODIFIED:20250313T073624Z
UID:18799-1742515200-1742601599@www.zsdolany.cz
SUMMARY:Žákovský ples
DESCRIPTION:Tradiční žákovský ples\, který organizují žáci IX. tříd pro své mladší spolužáky. Tentokrát v Sokolovně Tovéř
URL:https://www.zsdolany.cz/event/zakovsky-ples-3/
CATEGORIES:ŠD,ZŠ
END:VEVENT
BEGIN:VEVENT
DTSTART;VALUE=DATE:20250318
DTEND;VALUE=DATE:20250320
DTSTAMP:20260425T213223
CREATED:20250313T073305Z
LAST-MODIFIED:20250313T073305Z
UID:18795-1742256000-1742428799@www.zsdolany.cz
SUMMARY:Školní SWAP
DESCRIPTION:Nevyhazuj\, pošli to dál – školní knihovna\, projekt EKV 7. ročník
URL:https://www.zsdolany.cz/event/skolni-swap/
CATEGORIES:ŠD,ZŠ
END:VEVENT
BEGIN:VEVENT
DTSTART;VALUE=DATE:20250310
DTEND;VALUE=DATE:20250317
DTSTAMP:20260425T213223
CREATED:20250305T193457Z
LAST-MODIFIED:20250305T193457Z
UID:18763-1741564800-1742169599@www.zsdolany.cz
SUMMARY:Jarní prázdniny
DESCRIPTION:Uzavření provozu ŠD\, MŠ v provozu. 
URL:https://www.zsdolany.cz/event/jarni-prazdniny-4/
CATEGORIES:MŠ,ŠD,ZŠ
END:VEVENT
BEGIN:VEVENT
DTSTART;VALUE=DATE:20250131
DTEND;VALUE=DATE:20250201
DTSTAMP:20260425T213223
CREATED:20250125T085229Z
LAST-MODIFIED:20250125T085447Z
UID:18405-1738281600-1738367999@www.zsdolany.cz
SUMMARY:Pololetní prázdniny
DESCRIPTION:Pololetní prázdniny\, provoz ŠD pro nahlášené žáky od 7:00 do 13:00 hodin. 
URL:https://www.zsdolany.cz/event/pololetni-prazdniny-3/
CATEGORIES:ŠD,ZŠ
END:VEVENT
BEGIN:VEVENT
DTSTART;TZID=Europe/Helsinki:20250109T133000
DTEND;TZID=Europe/Helsinki:20250109T150000
DTSTAMP:20260425T213223
CREATED:20241228T051350Z
LAST-MODIFIED:20241228T051350Z
UID:18226-1736429400-1736434800@www.zsdolany.cz
SUMMARY:Maňáskové divadlo
DESCRIPTION:ŠD I – ŠD IV. (13:30 – 15:00)
URL:https://www.zsdolany.cz/event/manaskove-divadlo/
CATEGORIES:ŠD
END:VEVENT
BEGIN:VEVENT
DTSTART;VALUE=DATE:20250106
DTEND;VALUE=DATE:20250107
DTSTAMP:20260425T213223
CREATED:20241227T191722Z
LAST-MODIFIED:20241227T191722Z
UID:18224-1736121600-1736207999@www.zsdolany.cz
SUMMARY:Zahájení výuky po vánočních prázdninách
DESCRIPTION:
URL:https://www.zsdolany.cz/event/zahajeni-vyuky-po-vanocnich-prazdninach/
CATEGORIES:MŠ,ŠD,ZŠ
END:VEVENT
BEGIN:VEVENT
DTSTART;VALUE=DATE:20241223
DTEND;VALUE=DATE:20250106
DTSTAMP:20260425T213223
CREATED:20241203T061432Z
LAST-MODIFIED:20241203T061432Z
UID:18024-1734912000-1736121599@www.zsdolany.cz
SUMMARY:Vánoční prázdniny
DESCRIPTION:Vánoční prázdniny a přerušení provozu MŠ\, ŠD a ŠJ od 23. 12. – 5. 1. 2025. 
URL:https://www.zsdolany.cz/event/vanocni-prazdniny-3/
CATEGORIES:MŠ,ŠD,ŠJ,ZŠ
END:VEVENT
BEGIN:VEVENT
DTSTART;TZID=Europe/Helsinki:20241204T133000
DTEND;TZID=Europe/Helsinki:20241204T133000
DTSTAMP:20260425T213223
CREATED:20241202T102039Z
LAST-MODIFIED:20241202T102039Z
UID:18007-1733319000-1733319000@www.zsdolany.cz
SUMMARY:Koření ve školní družině
DESCRIPTION:ŠD 1. a 2. oddělení
URL:https://www.zsdolany.cz/event/koreni-ve-skolni-druzine-2/
CATEGORIES:ŠD,ZŠ
END:VEVENT
BEGIN:VEVENT
DTSTART;TZID=Europe/Helsinki:20241203T133000
DTEND;TZID=Europe/Helsinki:20241203T133000
DTSTAMP:20260425T213223
CREATED:20241202T101538Z
LAST-MODIFIED:20241202T101538Z
UID:17999-1733232600-1733232600@www.zsdolany.cz
SUMMARY:Koření ve školní družině
DESCRIPTION:ŠD 3. A 4. oddělení
URL:https://www.zsdolany.cz/event/koreni-ve-skolni-druzine/
CATEGORIES:ŠD,ZŠ
END:VEVENT
BEGIN:VEVENT
DTSTART;TZID=Europe/Helsinki:20241126T130000
DTEND;TZID=Europe/Helsinki:20241126T130000
DTSTAMP:20260425T213223
CREATED:20241104T071017Z
LAST-MODIFIED:20241104T071017Z
UID:17578-1732626000-1732626000@www.zsdolany.cz
SUMMARY:Sférické kino v ŠD
DESCRIPTION:ŠD 3. oddělení
URL:https://www.zsdolany.cz/event/sfericke-kino-v-sd/
CATEGORIES:ŠD,ZŠ
END:VEVENT
BEGIN:VEVENT
DTSTART;TZID=Europe/Helsinki:20241113T133000
DTEND;TZID=Europe/Helsinki:20241113T133000
DTSTAMP:20260425T213223
CREATED:20241104T065712Z
LAST-MODIFIED:20241104T065712Z
UID:17562-1731504600-1731504600@www.zsdolany.cz
SUMMARY:Děti na větvi - Ježčím krokem celým rokem
DESCRIPTION:ŠD 3. oddělení
URL:https://www.zsdolany.cz/event/deti-na-vetvi-jezcim-krokem-celym-rokem-2/
CATEGORIES:ŠD,ZŠ
END:VEVENT
BEGIN:VEVENT
DTSTART;TZID=Europe/Helsinki:20241112T133000
DTEND;TZID=Europe/Helsinki:20241112T133000
DTSTAMP:20260425T213223
CREATED:20241104T065620Z
LAST-MODIFIED:20241104T065620Z
UID:17560-1731418200-1731418200@www.zsdolany.cz
SUMMARY:Děti na větvi - Ježčím krokem celým rokem
DESCRIPTION:ŠD 3. oddělení
URL:https://www.zsdolany.cz/event/deti-na-vetvi-jezcim-krokem-celym-rokem/
CATEGORIES:ŠD,ZŠ
END:VEVENT
BEGIN:VEVENT
DTSTART;VALUE=DATE:20241028
DTEND;VALUE=DATE:20241029
DTSTAMP:20260425T213223
CREATED:20241022T084229Z
LAST-MODIFIED:20241022T084229Z
UID:17349-1730073600-1730159999@www.zsdolany.cz
SUMMARY:Státní svátek a podzimní prázdniny
DESCRIPTION:28. 10. – Den vzniku samostatného ČSR \n29. – 30. 10. – Podzimní prázdniny – provoz ŠD zajištěn pro přihlášené žáky
URL:https://www.zsdolany.cz/event/statni-svatek-a-podzimni-prazdniny/
CATEGORIES:ŠD,ZŠ
END:VEVENT
BEGIN:VEVENT
DTSTART;TZID=Europe/Helsinki:20240902T083000
DTEND;TZID=Europe/Helsinki:20240902T213000
DTSTAMP:20260425T213223
CREATED:20240822T052942Z
LAST-MODIFIED:20240822T052942Z
UID:16639-1725265800-1725312600@www.zsdolany.cz
SUMMARY:Slavnostní zahájení školního roku
DESCRIPTION:
URL:https://www.zsdolany.cz/event/slavnostni-zahajeni-skolniho-roku-3/
CATEGORIES:ŠD,ZŠ
END:VEVENT
BEGIN:VEVENT
DTSTART;TZID=Europe/Helsinki:20240507T130000
DTEND;TZID=Europe/Helsinki:20240507T130000
DTSTAMP:20260425T213223
CREATED:20240502T103229Z
LAST-MODIFIED:20240502T103229Z
UID:15479-1715086800-1715086800@www.zsdolany.cz
SUMMARY:Lesní pedagogika
DESCRIPTION:Školní družina I. a II.
URL:https://www.zsdolany.cz/event/lesni-pedagogika/
CATEGORIES:ŠD,ZŠ
END:VEVENT
BEGIN:VEVENT
DTSTART;VALUE=DATE:20240501
DTEND;VALUE=DATE:20240502
DTSTAMP:20260425T213223
CREATED:20240424T083430Z
LAST-MODIFIED:20240424T083430Z
UID:15368-1714521600-1714607999@www.zsdolany.cz
SUMMARY:Státní svátek
DESCRIPTION:
URL:https://www.zsdolany.cz/event/statni-svatek-7/
CATEGORIES:ŠD,ZŠ
END:VEVENT
END:VCALENDAR