BEGIN:VCALENDAR
VERSION:2.0
PRODID:-//ZŠ Dolany - ECPv6.11.2//NONSGML v1.0//EN
CALSCALE:GREGORIAN
METHOD:PUBLISH
X-WR-CALNAME:ZŠ Dolany
X-ORIGINAL-URL:https://www.zsdolany.cz
X-WR-CALDESC:Akce na ZŠ Dolany
REFRESH-INTERVAL;VALUE=DURATION:PT1H
X-Robots-Tag:noindex
X-PUBLISHED-TTL:PT1H
BEGIN:VTIMEZONE
TZID:Europe/Helsinki
BEGIN:DAYLIGHT
TZOFFSETFROM:+0200
TZOFFSETTO:+0300
TZNAME:EEST
DTSTART:20260329T010000
END:DAYLIGHT
BEGIN:STANDARD
TZOFFSETFROM:+0300
TZOFFSETTO:+0200
TZNAME:EET
DTSTART:20261025T010000
END:STANDARD
END:VTIMEZONE
BEGIN:VEVENT
DTSTART;TZID=Europe/Helsinki:20260202T073000
DTEND;TZID=Europe/Helsinki:20260306T170000
DTSTAMP:20260425T224422
CREATED:20260107T084737Z
LAST-MODIFIED:20260107T084839Z
UID:21787-1770017400-1772816400@www.zsdolany.cz
SUMMARY:Jarní prázdniny
DESCRIPTION:
URL:https://www.zsdolany.cz/event/jarni-prazdniny-5/
CATEGORIES:MŠ,ŠD,ZŠ
END:VEVENT
BEGIN:VEVENT
DTSTART;TZID=Europe/Helsinki:20260311T120000
DTEND;TZID=Europe/Helsinki:20260311T120000
DTSTAMP:20260425T224422
CREATED:20260309T113855Z
LAST-MODIFIED:20260309T113855Z
UID:22217-1773230400-1773230400@www.zsdolany.cz
SUMMARY:Polytechnická zkušenost ve školní družině
DESCRIPTION:ŠD III. a IV.
URL:https://www.zsdolany.cz/event/polytechnicka-zkusenost-ve-skolni-druzine/
CATEGORIES:ŠD
END:VEVENT
END:VCALENDAR